BEGIN:VCALENDAR
VERSION:2.0
PRODID:Vision Technology Solutions, LLC Calendar Creator
METHOD:PUBLISH
BEGIN:VEVENT
DTSTAMP:20200601T094015
DTSTART:20191105T000000
DTEND:20191105T235900
SUMMARY:Training
DESCRIPTION:test
X-ALT-DESC;FMTTYPE=text/html:test
LOCATION:490 ECR\, 490 El Camino Real Hermosa Beach\, California 90254
CLASS:PUBLIC
END:VEVENT
END:VCALENDAR
