BEGIN:VCALENDAR
VERSION:2.0
PRODID:Vision Technology Solutions, LLC Calendar Creator
METHOD:PUBLISH
BEGIN:VEVENT
DTSTAMP:20191009T080112
DTSTART:20190715T000000
DTEND:20191031T235900
SUMMARY:2019 Interactive Project Map
DESCRIPTION:
X-ALT-DESC;FMTTYPE=text/html:
LOCATION:
CLASS:PUBLIC
END:VEVENT
END:VCALENDAR
