BEGIN:VCALENDAR
VERSION:2.0
PRODID:Vision Technology Solutions, LLC Calendar Creator
METHOD:PUBLISH
BEGIN:VEVENT
DTSTAMP:20180625T104721
DTSTART:20180704T000000
DTEND:20180704T235900
SUMMARY:4th of July Event
DESCRIPTION:
X-ALT-DESC;FMTTYPE=text/html:
LOCATION:Animal Shelter\, 1322 S Bryant Blvd Hermosa Beach\, California 90254
CLASS:PUBLIC
END:VEVENT
END:VCALENDAR
