BEGIN:VCALENDAR
VERSION:2.0
PRODID:Vision Technology Solutions, LLC Calendar Creator
METHOD:PUBLISH
BEGIN:VEVENT
DTSTAMP:20180419T153359
DTSTART:20180421T000000
DTEND:20180421T235900
SUMMARY:Test Registration
DESCRIPTION:
X-ALT-DESC;FMTTYPE=text/html:
LOCATION:California 
CLASS:PUBLIC
END:VEVENT
END:VCALENDAR
