BEGIN:VCALENDAR
VERSION:2.0
PRODID:Vision Technology Solutions, LLC Calendar Creator
METHOD:PUBLISH
BEGIN:VEVENT
DTSTAMP:20180405T140238
DTSTART:20180405T120000
DTEND:20180405T150000
SUMMARY:Police Academy Training
DESCRIPTION:
X-ALT-DESC;FMTTYPE=text/html:
LOCATION:
CLASS:PUBLIC
END:VEVENT
END:VCALENDAR
